Workbook

Sheet Items
A1: MATERIAL STOCK REGISTER
A2: Step 1: list materials here. Step 2: enter every receipt and issue in the Entries sheet. Balance updates itself.
A4: Code | B4: Material | C4: Unit | D4: Opening stock | E4: Total received | F4: Total issued | G4: Balance | H4: Minimum level | I4: Status
A5: M01 | B5: Cement OPC 53 | C5: bag | E5: =IF(A5="","",SUMIFS(Entries!$F$5:$F$304,Entries!$C$5:$C$304,A5,Entries!$E$5:$E$304,"Received")) | F5: =IF(A5="","",SUMIFS(Entries!$F$5:$F$304,Entries!$C$5:$C$304,A5,Entries!$E$5:$E$304,"Issued")) | G5: =IF(A5="","",N(D5)+E5-F5) | I5: =IF(A5="","",IF(G5<0,"CHECK ENTRIES",IF(AND(H5<>"",G5<=H5),"REORDER","OK")))
A6: M02 | B6: TMT steel 8 mm | C6: kg | E6: =IF(A6="","",SUMIFS(Entries!$F$5:$F$304,Entries!$C$5:$C$304,A6,Entries!$E$5:$E$304,"Received")) | F6: =IF(A6="","",SUMIFS(Entries!$F$5:$F$304,Entries!$C$5:$C$304,A6,Entries!$E$5:$E$304,"Issued")) | G6: =IF(A6="","",N(D6)+E6-F6) | I6: =IF(A6="","",IF(G6<0,"CHECK ENTRIES",IF(AND(H6<>"",G6<=H6),"REORDER","OK")))
A7: M03 | B7: TMT steel 12 mm | C7: kg | E7: =IF(A7="","",SUMIFS(Entries!$F$5:$F$304,Entries!$C$5:$C$304,A7,Entries!$E$5:$E$304,"Received")) | F7: =IF(A7="","",SUMIFS(Entries!$F$5:$F$304,Entries!$C$5:$C$304,A7,Entries!$E$5:$E$304,"Issued")) | G7: =IF(A7="","",N(D7)+E7-F7) | I7: =IF(A7="","",IF(G7<0,"CHECK ENTRIES",IF(AND(H7<>"",G7<=H7),"REORDER","OK")))
A8: M04 | B8: River sand | C8: cum | E8: =IF(A8="","",SUMIFS(Entries!$F$5:$F$304,Entries!$C$5:$C$304,A8,Entries!$E$5:$E$304,"Received")) | F8: =IF(A8="","",SUMIFS(Entries!$F$5:$F$304,Entries!$C$5:$C$304,A8,Entries!$E$5:$E$304,"Issued")) | G8: =IF(A8="","",N(D8)+E8-F8) | I8: =IF(A8="","",IF(G8<0,"CHECK ENTRIES",IF(AND(H8<>"",G8<=H8),"REORDER","OK")))
A9: M05 | B9: Aggregate 20 mm | C9: cum | E9: =IF(A9="","",SUMIFS(Entries!$F$5:$F$304,Entries!$C$5:$C$304,A9,Entries!$E$5:$E$304,"Received")) | F9: =IF(A9="","",SUMIFS(Entries!$F$5:$F$304,Entries!$C$5:$C$304,A9,Entries!$E$5:$E$304,"Issued")) | G9: =IF(A9="","",N(D9)+E9-F9) | I9: =IF(A9="","",IF(G9<0,"CHECK ENTRIES",IF(AND(H9<>"",G9<=H9),"REORDER","OK")))
A10: M06 | B10: Bricks | C10: no. | E10: =IF(A10="","",SUMIFS(Entries!$F$5:$F$304,Entries!$C$5:$C$304,A10,Entries!$E$5:$E$304,"Received")) | F10: =IF(A10="","",SUMIFS(Entries!$F$5:$F$304,Entries!$C$5:$C$304,A10,Entries!$E$5:$E$304,"Issued")) | G10: =IF(A10="","",N(D10)+E10-F10) | I10: =IF(A10="","",IF(G10<0,"CHECK ENTRIES",IF(AND(H10<>"",G10<=H10),"REORDER","OK")))
A11: M07 | B11: Binding wire | C11: kg | E11: =IF(A11="","",SUMIFS(Entries!$F$5:$F$304,Entries!$C$5:$C$304,A11,Entries!$E$5:$E$304,"Received")) | F11: =IF(A11="","",SUMIFS(Entries!$F$5:$F$304,Entries!$C$5:$C$304,A11,Entries!$E$5:$E$304,"Issued")) | G11: =IF(A11="","",N(D11)+E11-F11) | I11: =IF(A11="","",IF(G11<0,"CHECK ENTRIES",IF(AND(H11<>"",G11<=H11),"REORDER","OK")))
A12: M08 | B12: Tiles 600 x 600 | C12: box | E12: =IF(A12="","",SUMIFS(Entries!$F$5:$F$304,Entries!$C$5:$C$304,A12,Entries!$E$5:$E$304,"Received")) | F12: =IF(A12="","",SUMIFS(Entries!$F$5:$F$304,Entries!$C$5:$C$304,A12,Entries!$E$5:$E$304,"Issued")) | G12: =IF(A12="","",N(D12)+E12-F12) | I12: =IF(A12="","",IF(G12<0,"CHECK ENTRIES",IF(AND(H12<>"",G12<=H12),"REORDER","OK")))
A13: M09 | B13: Putty | C13: bag | E13: =IF(A13="","",SUMIFS(Entries!$F$5:$F$304,Entries!$C$5:$C$304,A13,Entries!$E$5:$E$304,"Received")) | F13: =IF(A13="","",SUMIFS(Entries!$F$5:$F$304,Entries!$C$5:$C$304,A13,Entries!$E$5:$E$304,"Issued")) | G13: =IF(A13="","",N(D13)+E13-F13) | I13: =IF(A13="","",IF(G13<0,"CHECK ENTRIES",IF(AND(H13<>"",G13<=H13),"REORDER","OK")))
A14: M10 | B14: Paint emulsion | C14: ltr | E14: =IF(A14="","",SUMIFS(Entries!$F$5:$F$304,Entries!$C$5:$C$304,A14,Entries!$E$5:$E$304,"Received")) | F14: =IF(A14="","",SUMIFS(Entries!$F$5:$F$304,Entries!$C$5:$C$304,A14,Entries!$E$5:$E$304,"Issued")) | G14: =IF(A14="","",N(D14)+E14-F14) | I14: =IF(A14="","",IF(G14<0,"CHECK ENTRIES",IF(AND(H14<>"",G14<=H14),"REORDER","OK")))
E15: =IF(A15="","",SUMIFS(Entries!$F$5:$F$304,Entries!$C$5:$C$304,A15,Entries!$E$5:$E$304,"Received")) | F15: =IF(A15="","",SUMIFS(Entries!$F$5:$F$304,Entries!$C$5:$C$304,A15,Entries!$E$5:$E$304,"Issued")) | G15: =IF(A15="","",N(D15)+E15-F15) | I15: =IF(A15="","",IF(G15<0,"CHECK ENTRIES",IF(AND(H15<>"",G15<=H15),"REORDER","OK")))
E16: =IF(A16="","",SUMIFS(Entries!$F$5:$F$304,Entries!$C$5:$C$304,A16,Entries!$E$5:$E$304,"Received")) | F16: =IF(A16="","",SUMIFS(Entries!$F$5:$F$304,Entries!$C$5:$C$304,A16,Entries!$E$5:$E$304,"Issued")) | G16: =IF(A16="","",N(D16)+E16-F16) | I16: =IF(A16="","",IF(G16<0,"CHECK ENTRIES",IF(AND(H16<>"",G16<=H16),"REORDER","OK")))
E17: =IF(A17="","",SUMIFS(Entries!$F$5:$F$304,Entries!$C$5:$C$304,A17,Entries!$E$5:$E$304,"Received")) | F17: =IF(A17="","",SUMIFS(Entries!$F$5:$F$304,Entries!$C$5:$C$304,A17,Entries!$E$5:$E$304,"Issued")) | G17: =IF(A17="","",N(D17)+E17-F17) | I17: =IF(A17="","",IF(G17<0,"CHECK ENTRIES",IF(AND(H17<>"",G17<=H17),"REORDER","OK")))
E18: =IF(A18="","",SUMIFS(Entries!$F$5:$F$304,Entries!$C$5:$C$304,A18,Entries!$E$5:$E$304,"Received")) | F18: =IF(A18="","",SUMIFS(Entries!$F$5:$F$304,Entries!$C$5:$C$304,A18,Entries!$E$5:$E$304,"Issued")) | G18: =IF(A18="","",N(D18)+E18-F18) | I18: =IF(A18="","",IF(G18<0,"CHECK ENTRIES",IF(AND(H18<>"",G18<=H18),"REORDER","OK")))
E19: =IF(A19="","",SUMIFS(Entries!$F$5:$F$304,Entries!$C$5:$C$304,A19,Entries!$E$5:$E$304,"Received")) | F19: =IF(A19="","",SUMIFS(Entries!$F$5:$F$304,Entries!$C$5:$C$304,A19,Entries!$E$5:$E$304,"Issued")) | G19: =IF(A19="","",N(D19)+E19-F19) | I19: =IF(A19="","",IF(G19<0,"CHECK ENTRIES",IF(AND(H19<>"",G19<=H19),"REORDER","OK")))
E20: =IF(A20="","",SUMIFS(Entries!$F$5:$F$304,Entries!$C$5:$C$304,A20,Entries!$E$5:$E$304,"Received")) | F20: =IF(A20="","",SUMIFS(Entries!$F$5:$F$304,Entries!$C$5:$C$304,A20,Entries!$E$5:$E$304,"Issued")) | G20: =IF(A20="","",N(D20)+E20-F20) | I20: =IF(A20="","",IF(G20<0,"CHECK ENTRIES",IF(AND(H20<>"",G20<=H20),"REORDER","OK")))
E21: =IF(A21="","",SUMIFS(Entries!$F$5:$F$304,Entries!$C$5:$C$304,A21,Entries!$E$5:$E$304,"Received")) | F21: =IF(A21="","",SUMIFS(Entries!$F$5:$F$304,Entries!$C$5:$C$304,A21,Entries!$E$5:$E$304,"Issued")) | G21: =IF(A21="","",N(D21)+E21-F21) | I21: =IF(A21="","",IF(G21<0,"CHECK ENTRIES",IF(AND(H21<>"",G21<=H21),"REORDER","OK")))
E22: =IF(A22="","",SUMIFS(Entries!$F$5:$F$304,Entries!$C$5:$C$304,A22,Entries!$E$5:$E$304,"Received")) | F22: =IF(A22="","",SUMIFS(Entries!$F$5:$F$304,Entries!$C$5:$C$304,A22,Entries!$E$5:$E$304,"Issued")) | G22: =IF(A22="","",N(D22)+E22-F22) | I22: =IF(A22="","",IF(G22<0,"CHECK ENTRIES",IF(AND(H22<>"",G22<=H22),"REORDER","OK")))
E23: =IF(A23="","",SUMIFS(Entries!$F$5:$F$304,Entries!$C$5:$C$304,A23,Entries!$E$5:$E$304,"Received")) | F23: =IF(A23="","",SUMIFS(Entries!$F$5:$F$304,Entries!$C$5:$C$304,A23,Entries!$E$5:$E$304,"Issued")) | G23: =IF(A23="","",N(D23)+E23-F23) | I23: =IF(A23="","",IF(G23<0,"CHECK ENTRIES",IF(AND(H23<>"",G23<=H23),"REORDER","OK")))
E24: =IF(A24="","",SUMIFS(Entries!$F$5:$F$304,Entries!$C$5:$C$304,A24,Entries!$E$5:$E$304,"Received")) | F24: =IF(A24="","",SUMIFS(Entries!$F$5:$F$304,Entries!$C$5:$C$304,A24,Entries!$E$5:$E$304,"Issued")) | G24: =IF(A24="","",N(D24)+E24-F24) | I24: =IF(A24="","",IF(G24<0,"CHECK ENTRIES",IF(AND(H24<>"",G24<=H24),"REORDER","OK")))
E25: =IF(A25="","",SUMIFS(Entries!$F$5:$F$304,Entries!$C$5:$C$304,A25,Entries!$E$5:$E$304,"Received")) | F25: =IF(A25="","",SUMIFS(Entries!$F$5:$F$304,Entries!$C$5:$C$304,A25,Entries!$E$5:$E$304,"Issued")) | G25: =IF(A25="","",N(D25)+E25-F25) | I25: =IF(A25="","",IF(G25<0,"CHECK ENTRIES",IF(AND(H25<>"",G25<=H25),"REORDER","OK")))
E26: =IF(A26="","",SUMIFS(Entries!$F$5:$F$304,Entries!$C$5:$C$304,A26,Entries!$E$5:$E$304,"Received")) | F26: =IF(A26="","",SUMIFS(Entries!$F$5:$F$304,Entries!$C$5:$C$304,A26,Entries!$E$5:$E$304,"Issued")) | G26: =IF(A26="","",N(D26)+E26-F26) | I26: =IF(A26="","",IF(G26<0,"CHECK ENTRIES",IF(AND(H26<>"",G26<=H26),"REORDER","OK")))
... E44: =IF(A44="","",SUMIFS(Entries!$F$5:$F$304,Entries!$C$5:$C$304,A44,Entries!$E$5:$E$304,"Received")) | F44: =IF(A44="","",SUMIFS(Entries!$F$5:$F$304,Entries!$C$5:$C$304,A44,Entries!$E$5:$E$304,"Issued")) | G44: =IF(A44="","",N(D44)+E44-F44) | I44: =IF(A44="","",IF(G44<0,"CHECK ENTRIES",IF(AND(H44<>"",G44<=H44),"REORDER","OK")))
A46: Free template by Trackovo (trackovo.app). Edit, print and share freely.

Sheet Entries
A1: STOCK ENTRIES (RECEIVED AND ISSUED)
A2: One row per receipt or issue. Never edit old rows: add a correcting row instead.
A4: S.no | B4: Date | C4: Code | D4: Material (auto) | E4: Type | F4: Qty | G4: Unit | H4: Supplier / issued to | I4: Challan / gate pass no. | J4: Used where (activity / floor) | K4: Entered by / remarks
A5: 1 | D5: =IF(C5="","",IFERROR(VLOOKUP(C5,Items!$A$5:$C$44,2,FALSE),"code not found")) | G5: =IF(C5="","",IFERROR(VLOOKUP(C5,Items!$A$5:$C$44,3,FALSE),""))
A6: 2 | D6: =IF(C6="","",IFERROR(VLOOKUP(C6,Items!$A$5:$C$44,2,FALSE),"code not found")) | G6: =IF(C6="","",IFERROR(VLOOKUP(C6,Items!$A$5:$C$44,3,FALSE),""))
A7: 3 | D7: =IF(C7="","",IFERROR(VLOOKUP(C7,Items!$A$5:$C$44,2,FALSE),"code not found")) | G7: =IF(C7="","",IFERROR(VLOOKUP(C7,Items!$A$5:$C$44,3,FALSE),""))
A8: 4 | D8: =IF(C8="","",IFERROR(VLOOKUP(C8,Items!$A$5:$C$44,2,FALSE),"code not found")) | G8: =IF(C8="","",IFERROR(VLOOKUP(C8,Items!$A$5:$C$44,3,FALSE),""))
A9: 5 | D9: =IF(C9="","",IFERROR(VLOOKUP(C9,Items!$A$5:$C$44,2,FALSE),"code not found")) | G9: =IF(C9="","",IFERROR(VLOOKUP(C9,Items!$A$5:$C$44,3,FALSE),""))
A10: 6 | D10: =IF(C10="","",IFERROR(VLOOKUP(C10,Items!$A$5:$C$44,2,FALSE),"code not found")) | G10: =IF(C10="","",IFERROR(VLOOKUP(C10,Items!$A$5:$C$44,3,FALSE),""))
A11: 7 | D11: =IF(C11="","",IFERROR(VLOOKUP(C11,Items!$A$5:$C$44,2,FALSE),"code not found")) | G11: =IF(C11="","",IFERROR(VLOOKUP(C11,Items!$A$5:$C$44,3,FALSE),""))
A12: 8 | D12: =IF(C12="","",IFERROR(VLOOKUP(C12,Items!$A$5:$C$44,2,FALSE),"code not found")) | G12: =IF(C12="","",IFERROR(VLOOKUP(C12,Items!$A$5:$C$44,3,FALSE),""))
A13: 9 | D13: =IF(C13="","",IFERROR(VLOOKUP(C13,Items!$A$5:$C$44,2,FALSE),"code not found")) | G13: =IF(C13="","",IFERROR(VLOOKUP(C13,Items!$A$5:$C$44,3,FALSE),""))
A14: 10 | D14: =IF(C14="","",IFERROR(VLOOKUP(C14,Items!$A$5:$C$44,2,FALSE),"code not found")) | G14: =IF(C14="","",IFERROR(VLOOKUP(C14,Items!$A$5:$C$44,3,FALSE),""))
A15: 11 | D15: =IF(C15="","",IFERROR(VLOOKUP(C15,Items!$A$5:$C$44,2,FALSE),"code not found")) | G15: =IF(C15="","",IFERROR(VLOOKUP(C15,Items!$A$5:$C$44,3,FALSE),""))
A16: 12 | D16: =IF(C16="","",IFERROR(VLOOKUP(C16,Items!$A$5:$C$44,2,FALSE),"code not found")) | G16: =IF(C16="","",IFERROR(VLOOKUP(C16,Items!$A$5:$C$44,3,FALSE),""))
... A304: 300 | D304: =IF(C304="","",IFERROR(VLOOKUP(C304,Items!$A$5:$C$44,2,FALSE),"code not found")) | G304: =IF(C304="","",IFERROR(VLOOKUP(C304,Items!$A$5:$C$44,3,FALSE),""))
