Workbook

Sheet Register
A1: LABOUR / CONTRACTOR ADVANCE REGISTER
A2: One row per advance given or recovered, in date order. Balance is the running balance for that person (SUMIF on the name). Spell the name the same way every time.
A3: Site: | D3: Contractor / gang: | H3: Month / period:
A5: S.no | B5: Date | C5: Worker / contractor name | D5: Site / block | E5: Advance given (Rs) | F5: Recovered on (wage date) | G5: Recovered amount (Rs) | H5: Balance for this person (auto) | I5: Approved by | J5: Purpose / remarks
A6: 1 | H6: =IF(C6="","",SUMIF($C$6:C6,C6,$E$6:E6)-SUMIF($C$6:C6,C6,$G$6:G6))
A7: 2 | H7: =IF(C7="","",SUMIF($C$6:C7,C7,$E$6:E7)-SUMIF($C$6:C7,C7,$G$6:G7))
A8: 3 | H8: =IF(C8="","",SUMIF($C$6:C8,C8,$E$6:E8)-SUMIF($C$6:C8,C8,$G$6:G8))
A9: 4 | H9: =IF(C9="","",SUMIF($C$6:C9,C9,$E$6:E9)-SUMIF($C$6:C9,C9,$G$6:G9))
A10: 5 | H10: =IF(C10="","",SUMIF($C$6:C10,C10,$E$6:E10)-SUMIF($C$6:C10,C10,$G$6:G10))
A11: 6 | H11: =IF(C11="","",SUMIF($C$6:C11,C11,$E$6:E11)-SUMIF($C$6:C11,C11,$G$6:G11))
A12: 7 | H12: =IF(C12="","",SUMIF($C$6:C12,C12,$E$6:E12)-SUMIF($C$6:C12,C12,$G$6:G12))
A13: 8 | H13: =IF(C13="","",SUMIF($C$6:C13,C13,$E$6:E13)-SUMIF($C$6:C13,C13,$G$6:G13))
A14: 9 | H14: =IF(C14="","",SUMIF($C$6:C14,C14,$E$6:E14)-SUMIF($C$6:C14,C14,$G$6:G14))
A15: 10 | H15: =IF(C15="","",SUMIF($C$6:C15,C15,$E$6:E15)-SUMIF($C$6:C15,C15,$G$6:G15))
A16: 11 | H16: =IF(C16="","",SUMIF($C$6:C16,C16,$E$6:E16)-SUMIF($C$6:C16,C16,$G$6:G16))
A17: 12 | H17: =IF(C17="","",SUMIF($C$6:C17,C17,$E$6:E17)-SUMIF($C$6:C17,C17,$G$6:G17))
... A205: 200 | H205: =IF(C205="","",SUMIF($C$6:C205,C205,$E$6:E205)-SUMIF($C$6:C205,C205,$G$6:G205))
A207: Free template by Trackovo (trackovo.app). Edit, print and share freely.

Sheet Balance summary
A1: BALANCE PER PERSON
A2: Type each worker / contractor name once, spelled exactly as in the Register sheet. Totals use SUMIF.
A4: S.no | B4: Worker / contractor name | C4: Total given (Rs) | D4: Total recovered (Rs) | E4: Balance due (Rs) | F4: Status
A5: 1 | C5: =IF(B5="","",SUMIF(Register!$C$6:$C$205,B5,Register!$E$6:$E$205)) | D5: =IF(B5="","",SUMIF(Register!$C$6:$C$205,B5,Register!$G$6:$G$205)) | E5: =IF(B5="","",C5-D5) | F5: =IF(B5="","",IF(E5>0,"DUE",IF(E5<0,"CHECK","CLEAR")))
A6: 2 | C6: =IF(B6="","",SUMIF(Register!$C$6:$C$205,B6,Register!$E$6:$E$205)) | D6: =IF(B6="","",SUMIF(Register!$C$6:$C$205,B6,Register!$G$6:$G$205)) | E6: =IF(B6="","",C6-D6) | F6: =IF(B6="","",IF(E6>0,"DUE",IF(E6<0,"CHECK","CLEAR")))
A7: 3 | C7: =IF(B7="","",SUMIF(Register!$C$6:$C$205,B7,Register!$E$6:$E$205)) | D7: =IF(B7="","",SUMIF(Register!$C$6:$C$205,B7,Register!$G$6:$G$205)) | E7: =IF(B7="","",C7-D7) | F7: =IF(B7="","",IF(E7>0,"DUE",IF(E7<0,"CHECK","CLEAR")))
A8: 4 | C8: =IF(B8="","",SUMIF(Register!$C$6:$C$205,B8,Register!$E$6:$E$205)) | D8: =IF(B8="","",SUMIF(Register!$C$6:$C$205,B8,Register!$G$6:$G$205)) | E8: =IF(B8="","",C8-D8) | F8: =IF(B8="","",IF(E8>0,"DUE",IF(E8<0,"CHECK","CLEAR")))
A9: 5 | C9: =IF(B9="","",SUMIF(Register!$C$6:$C$205,B9,Register!$E$6:$E$205)) | D9: =IF(B9="","",SUMIF(Register!$C$6:$C$205,B9,Register!$G$6:$G$205)) | E9: =IF(B9="","",C9-D9) | F9: =IF(B9="","",IF(E9>0,"DUE",IF(E9<0,"CHECK","CLEAR")))
A10: 6 | C10: =IF(B10="","",SUMIF(Register!$C$6:$C$205,B10,Register!$E$6:$E$205)) | D10: =IF(B10="","",SUMIF(Register!$C$6:$C$205,B10,Register!$G$6:$G$205)) | E10: =IF(B10="","",C10-D10) | F10: =IF(B10="","",IF(E10>0,"DUE",IF(E10<0,"CHECK","CLEAR")))
A11: 7 | C11: =IF(B11="","",SUMIF(Register!$C$6:$C$205,B11,Register!$E$6:$E$205)) | D11: =IF(B11="","",SUMIF(Register!$C$6:$C$205,B11,Register!$G$6:$G$205)) | E11: =IF(B11="","",C11-D11) | F11: =IF(B11="","",IF(E11>0,"DUE",IF(E11<0,"CHECK","CLEAR")))
A12: 8 | C12: =IF(B12="","",SUMIF(Register!$C$6:$C$205,B12,Register!$E$6:$E$205)) | D12: =IF(B12="","",SUMIF(Register!$C$6:$C$205,B12,Register!$G$6:$G$205)) | E12: =IF(B12="","",C12-D12) | F12: =IF(B12="","",IF(E12>0,"DUE",IF(E12<0,"CHECK","CLEAR")))
A13: 9 | C13: =IF(B13="","",SUMIF(Register!$C$6:$C$205,B13,Register!$E$6:$E$205)) | D13: =IF(B13="","",SUMIF(Register!$C$6:$C$205,B13,Register!$G$6:$G$205)) | E13: =IF(B13="","",C13-D13) | F13: =IF(B13="","",IF(E13>0,"DUE",IF(E13<0,"CHECK","CLEAR")))
A14: 10 | C14: =IF(B14="","",SUMIF(Register!$C$6:$C$205,B14,Register!$E$6:$E$205)) | D14: =IF(B14="","",SUMIF(Register!$C$6:$C$205,B14,Register!$G$6:$G$205)) | E14: =IF(B14="","",C14-D14) | F14: =IF(B14="","",IF(E14>0,"DUE",IF(E14<0,"CHECK","CLEAR")))
A15: 11 | C15: =IF(B15="","",SUMIF(Register!$C$6:$C$205,B15,Register!$E$6:$E$205)) | D15: =IF(B15="","",SUMIF(Register!$C$6:$C$205,B15,Register!$G$6:$G$205)) | E15: =IF(B15="","",C15-D15) | F15: =IF(B15="","",IF(E15>0,"DUE",IF(E15<0,"CHECK","CLEAR")))
A16: 12 | C16: =IF(B16="","",SUMIF(Register!$C$6:$C$205,B16,Register!$E$6:$E$205)) | D16: =IF(B16="","",SUMIF(Register!$C$6:$C$205,B16,Register!$G$6:$G$205)) | E16: =IF(B16="","",C16-D16) | F16: =IF(B16="","",IF(E16>0,"DUE",IF(E16<0,"CHECK","CLEAR")))
... A44: 40 | C44: =IF(B44="","",SUMIF(Register!$C$6:$C$205,B44,Register!$E$6:$E$205)) | D44: =IF(B44="","",SUMIF(Register!$C$6:$C$205,B44,Register!$G$6:$G$205)) | E44: =IF(B44="","",C44-D44) | F44: =IF(B44="","",IF(E44>0,"DUE",IF(E44<0,"CHECK","CLEAR")))
B45: TOTAL | C45: =SUM(C5:C44) | D45: =SUM(D5:D44) | E45: =SUM(E5:E44)
A47: Free template by Trackovo (trackovo.app). Edit, print and share freely.

Sheet Sample data
A1: LABOUR / CONTRACTOR ADVANCE REGISTER - Sample data
A2: SAMPLE DATA, example only: sample names and quantities to show how the sheet works. Not from a real site.
A3: Site: | B3: Site A (sample) | D3: Contractor / gang: | E3: Sample Contractor | H3: Month / period: | I3: October 2026
A5: S.no | B5: Date | C5: Worker / contractor name | D5: Site / block | E5: Advance given (Rs) | F5: Recovered on (wage date) | G5: Recovered amount (Rs) | H5: Balance for this person (auto) | I5: Approved by | J5: Purpose / remarks
A6: 1 | B6: 46297 | C6: Sample Worker 1 | D6: Site A | E6: 3000 | H6: =IF(C6="","",SUMIF($C$6:C6,C6,$E$6:E6)-SUMIF($C$6:C6,C6,$G$6:G6)) | I6: PM (sample) | J6: Festival advance
A7: 2 | B7: 46300 | C7: Sample Worker 2 | D7: Site A | E7: 2000 | H7: =IF(C7="","",SUMIF($C$6:C7,C7,$E$6:E7)-SUMIF($C$6:C7,C7,$G$6:G7)) | I7: PM (sample) | J7: Medical
A8: 3 | B8: 46302 | C8: Sample Contractor | D8: Site A | E8: 50000 | H8: =IF(C8="","",SUMIF($C$6:C8,C8,$E$6:E8)-SUMIF($C$6:C8,C8,$G$6:G8)) | I8: Owner (sample) | J8: Mobilisation advance, WO-2026-007
A9: 4 | B9: 46310 | C9: Sample Worker 1 | D9: Site A | F9: 46310 | G9: 1500 | H9: =IF(C9="","",SUMIF($C$6:C9,C9,$E$6:E9)-SUMIF($C$6:C9,C9,$G$6:G9)) | I9: Supervisor (sample) | J9: Recovered from fortnight wage
A10: 5 | B10: 46310 | C10: Sample Worker 2 | D10: Site A | F10: 46310 | G10: 2000 | H10: =IF(C10="","",SUMIF($C$6:C10,C10,$E$6:E10)-SUMIF($C$6:C10,C10,$G$6:G10)) | I10: Supervisor (sample) | J10: Fully recovered
A11: 6 | B11: 46315 | C11: Sample Worker 1 | D11: Site A | E11: 1000 | H11: =IF(C11="","",SUMIF($C$6:C11,C11,$E$6:E11)-SUMIF($C$6:C11,C11,$G$6:G11)) | I11: PM (sample) | J11: Second advance
A12: 7 | B12: 46326 | C12: Sample Contractor | D12: Site A | F12: 46326 | G12: 20000 | H12: =IF(C12="","",SUMIF($C$6:C12,C12,$E$6:E12)-SUMIF($C$6:C12,C12,$G$6:G12)) | I12: PM (sample) | J12: Recovered in RA-03
A13: 8 | B13: 46326 | C13: Sample Worker 1 | D13: Site A | F13: 46326 | G13: 1500 | H13: =IF(C13="","",SUMIF($C$6:C13,C13,$E$6:E13)-SUMIF($C$6:C13,C13,$G$6:G13)) | I13: Supervisor (sample) | J13: Recovered from month-end wage
A14: 9 | H14: =IF(C14="","",SUMIF($C$6:C14,C14,$E$6:E14)-SUMIF($C$6:C14,C14,$G$6:G14))
A15: 10 | H15: =IF(C15="","",SUMIF($C$6:C15,C15,$E$6:E15)-SUMIF($C$6:C15,C15,$G$6:G15))
A16: 11 | H16: =IF(C16="","",SUMIF($C$6:C16,C16,$E$6:E16)-SUMIF($C$6:C16,C16,$G$6:G16))
A17: 12 | H17: =IF(C17="","",SUMIF($C$6:C17,C17,$E$6:E17)-SUMIF($C$6:C17,C17,$G$6:G17))
A19: BALANCE PER PERSON (same SUMIF as the Balance summary sheet)
C20: Name | D20: Total given (Rs) | E20: Total recovered (Rs) | F20: Balance due (Rs) | G20: Status
C21: Sample Worker 1 | D21: =SUMIF($C$6:$C$17,C21,$E$6:$E$17) | E21: =SUMIF($C$6:$C$17,C21,$G$6:$G$17) | F21: =D21-E21 | G21: =IF(F21>0,"DUE",IF(F21<0,"CHECK","CLEAR"))
C22: Sample Worker 2 | D22: =SUMIF($C$6:$C$17,C22,$E$6:$E$17) | E22: =SUMIF($C$6:$C$17,C22,$G$6:$G$17) | F22: =D22-E22 | G22: =IF(F22>0,"DUE",IF(F22<0,"CHECK","CLEAR"))
C23: Sample Contractor | D23: =SUMIF($C$6:$C$17,C23,$E$6:$E$17) | E23: =SUMIF($C$6:$C$17,C23,$G$6:$G$17) | F23: =D23-E23 | G23: =IF(F23>0,"DUE",IF(F23<0,"CHECK","CLEAR"))
A25: Free template by Trackovo (trackovo.app). Edit, print and share freely.
